BEGIN:VCALENDAR
VERSION:2.0
PRODID:-//Old Stone House Museum and Historic Village - ECPv6.15.11//NONSGML v1.0//EN
CALSCALE:GREGORIAN
METHOD:PUBLISH
X-WR-CALNAME:Old Stone House Museum and Historic Village
X-ORIGINAL-URL:https://oldstonehousemuseum.org
X-WR-CALDESC:Events for Old Stone House Museum and Historic Village
REFRESH-INTERVAL;VALUE=DURATION:PT1H
X-Robots-Tag:noindex
X-PUBLISHED-TTL:PT1H
BEGIN:VTIMEZONE
TZID:America/New_York
BEGIN:DAYLIGHT
TZOFFSETFROM:-0500
TZOFFSETTO:-0400
TZNAME:EDT
DTSTART:20250309T070000
END:DAYLIGHT
BEGIN:STANDARD
TZOFFSETFROM:-0400
TZOFFSETTO:-0500
TZNAME:EST
DTSTART:20251102T060000
END:STANDARD
BEGIN:DAYLIGHT
TZOFFSETFROM:-0500
TZOFFSETTO:-0400
TZNAME:EDT
DTSTART:20260308T070000
END:DAYLIGHT
BEGIN:STANDARD
TZOFFSETFROM:-0400
TZOFFSETTO:-0500
TZNAME:EST
DTSTART:20261101T060000
END:STANDARD
BEGIN:DAYLIGHT
TZOFFSETFROM:-0500
TZOFFSETTO:-0400
TZNAME:EDT
DTSTART:20270314T070000
END:DAYLIGHT
BEGIN:STANDARD
TZOFFSETFROM:-0400
TZOFFSETTO:-0500
TZNAME:EST
DTSTART:20271107T060000
END:STANDARD
END:VTIMEZONE
BEGIN:VEVENT
DTSTART;TZID=America/New_York:20260502T140000
DTEND;TZID=America/New_York:20260502T170000
DTSTAMP:20260422T122643
CREATED:20260314T212347Z
LAST-MODIFIED:20260314T222600Z
UID:64241-1777730400-1777741200@oldstonehousemuseum.org
SUMMARY:The Culinary Acorn  |  Adult Enrichment Program
DESCRIPTION:In this hands-on class we will learn to fully process acorns into a delicious user-friendly flour before creating some culinary delights to enjoy while discussing propagating this magical seed for future generations of countless beings to enjoy. \n  \nSaturday\, May 2nd\, 2026 I 2-5pm\nInstructor\, Elliot Cluba\, is the owner of Herbs and Arrows primitive skills school. Elliot teaches wilderness and primitive skills\, martial arts\, herbalism\, basketry and holistic health. He lives in Montgomery with his wife and two daughters. A popular instructor here at the museum who has taught birch basketry classes and has been a participant in our Fall Fiber Faire. We are excited to welcome him back and tap into his additional herbal skill set. Don’t miss out on his excellent teaching skills\, interactions and insights. \nSign Up Here
URL:https://oldstonehousemuseum.org/event/the-culinary-acorn-adult-enrichment-program/
LOCATION:Grammar School\, The Old Stone House Museum & Historic Village\, 1569 Hinman Settler Rd\, Brownington\, VT\, 05860\, United States
ATTACH;FMTTYPE=image/jpeg:https://oldstonehousemuseum.org/wp-content/uploads/2026/03/Acorns.jpg
END:VEVENT
BEGIN:VEVENT
DTSTART;TZID=America/New_York:20260509T090000
DTEND;TZID=America/New_York:20260509T140000
DTSTAMP:20260422T122643
CREATED:20260323T183842Z
LAST-MODIFIED:20260323T185303Z
UID:64305-1778317200-1778335200@oldstonehousemuseum.org
SUMMARY:Spring Clean Up
DESCRIPTION:Mark your calendar for Spring Clean-Up on May 9! Help us get the museum and grounds ready for another beautiful season—details coming soon.
URL:https://oldstonehousemuseum.org/event/spring-clean-up/
END:VEVENT
BEGIN:VEVENT
DTSTART;TZID=America/New_York:20260523T110000
DTEND;TZID=America/New_York:20260524T160000
DTSTAMP:20260422T122643
CREATED:20260322T182119Z
LAST-MODIFIED:20260323T174121Z
UID:64293-1779534000-1779638400@oldstonehousemuseum.org
SUMMARY:Opening Weekend
DESCRIPTION:Join us for Opening Weekend as we kick off a new season at the Old Stone House Museum. Guided tours will run Wednesday through Sunday at 11am\, 1pm\, and 3pm. Click Here for more information on visiting and joining tour.
URL:https://oldstonehousemuseum.org/event/opening-weekend/
ATTACH;FMTTYPE=image/png:https://oldstonehousemuseum.org/wp-content/uploads/2024/08/openingday2023_2-297x300-1.png
END:VEVENT
BEGIN:VEVENT
DTSTART;VALUE=DATE:20260619
DTEND;VALUE=DATE:20260620
DTSTAMP:20260422T122643
CREATED:20260323T182436Z
LAST-MODIFIED:20260323T182436Z
UID:64303-1781827200-1781913599@oldstonehousemuseum.org
SUMMARY:Juneteenth
DESCRIPTION:Stay tuned for more details.
URL:https://oldstonehousemuseum.org/event/juneteenth/
END:VEVENT
BEGIN:VEVENT
DTSTART;TZID=America/New_York:20260620T110000
DTEND;TZID=America/New_York:20260620T160000
DTSTAMP:20260422T122643
CREATED:20260317T162349Z
LAST-MODIFIED:20260323T173539Z
UID:64290-1781953200-1781971200@oldstonehousemuseum.org
SUMMARY:The Vermont Gas & Steam Engine Show
DESCRIPTION:Save the date for the Vermont Gas & Steam Engine Show and see historic engines brought to life by the Vermont Gas & Steam Engine Association. More details to come.
URL:https://oldstonehousemuseum.org/event/the-vermont-gas-steam-engine-show/
ATTACH;FMTTYPE=image/jpeg:https://oldstonehousemuseum.org/wp-content/uploads/2025/05/VGSEA-logo-2.jpg
END:VEVENT
BEGIN:VEVENT
DTSTART;TZID=America/New_York:20260727T090000
DTEND;TZID=America/New_York:20260731T150000
DTSTAMP:20260422T122643
CREATED:20260322T182647Z
LAST-MODIFIED:20260323T181629Z
UID:64295-1785142800-1785510000@oldstonehousemuseum.org
SUMMARY:Time Traveler's Day Camp
DESCRIPTION:In celebration of the 190th anniversary of the building of the Old Stone House\, campers will explore both the legend and the lived reality of how the building—and the village around it—came to be. This year’s camp theme centers on the building of the Old Stone House and the trades\, skills\, and community relationships that made village life possible in the 1830s. \nFor 7 to 12 year old campers.
URL:https://oldstonehousemuseum.org/event/time-travelers-day-camp/
ATTACH;FMTTYPE=image/jpeg:https://oldstonehousemuseum.org/wp-content/uploads/2026/03/2cd0eb61-4891-4780-89e8-a5b8c2319fd8-scaled.jpg
END:VEVENT
BEGIN:VEVENT
DTSTART;TZID=America/New_York:20260816T110000
DTEND;TZID=America/New_York:20260816T150000
DTSTAMP:20260422T122643
CREATED:20260317T150323Z
LAST-MODIFIED:20260317T151558Z
UID:64277-1786878000-1786892400@oldstonehousemuseum.org
SUMMARY:Old Stone House Day 2026
DESCRIPTION:Mark your calendar for Old Stone House Day and plan to join us for a day of history\, community\, and fun. More details coming soon!
URL:https://oldstonehousemuseum.org/event/old-stone-house-day-2026/
LOCATION:Old Stone House Museum & Historic Village\, 109 Old Stone House Road\, Brownington\, VT\, 05860\, United States
ATTACH;FMTTYPE=image/jpeg:https://oldstonehousemuseum.org/wp-content/uploads/2026/03/f0125108-2481-4ffd-a014-125f9a4b16fe.jpg
END:VEVENT
BEGIN:VEVENT
DTSTART;TZID=America/New_York:20260919T113000
DTEND;TZID=America/New_York:20260919T160000
DTSTAMP:20260422T122643
CREATED:20260317T150820Z
LAST-MODIFIED:20260325T192210Z
UID:64281-1789817400-1789833600@oldstonehousemuseum.org
SUMMARY:Fall Fiber Faire 2026
DESCRIPTION:Save the date for our Fall Fiber Faire!  \nMore details to come.
URL:https://oldstonehousemuseum.org/event/fiber-faire-2/
ATTACH;FMTTYPE=image/jpeg:https://oldstonehousemuseum.org/wp-content/uploads/2026/03/DSC07052-2-scaled.jpeg
END:VEVENT
BEGIN:VEVENT
DTSTART;VALUE=DATE:20260927
DTEND;VALUE=DATE:20260928
DTSTAMP:20260422T122643
CREATED:20260323T181451Z
LAST-MODIFIED:20260323T181451Z
UID:64301-1790467200-1790553599@oldstonehousemuseum.org
SUMMARY:Alexander Twilight's Birthday Celebration
DESCRIPTION:Mark your calendars; more details to come!
URL:https://oldstonehousemuseum.org/event/alexander-twilights-birthday-celebration/
ATTACH;FMTTYPE=image/jpeg:https://oldstonehousemuseum.org/wp-content/uploads/2024/06/prospect_hill_night-sky2.jpg
END:VEVENT
BEGIN:VEVENT
DTSTART;VALUE=DATE:20261011
DTEND;VALUE=DATE:20261012
DTSTAMP:20260422T122643
CREATED:20260323T175139Z
LAST-MODIFIED:20260330T172122Z
UID:64299-1791676800-1791763199@oldstonehousemuseum.org
SUMMARY:Closing Weekend
DESCRIPTION:Don’t miss your last chance to visit the Old Stone House Museum this season! Join us for the final tours of the year on Sunday\, October 11.
URL:https://oldstonehousemuseum.org/event/closing-weekend/
ATTACH;FMTTYPE=image/jpeg:https://oldstonehousemuseum.org/wp-content/uploads/2020/12/IMG_7373-scaled-1-e1607537161500.jpeg
END:VEVENT
END:VCALENDAR